BEGIN:VCALENDAR
VERSION:2.0
PRODID:-//ChamberMaster//Event Calendar 2.0//EN
METHOD:PUBLISH
X-PUBLISHED-TTL:P3D
REFRESH-INTERVAL:P3D
CALSCALE:GREGORIAN
BEGIN:VEVENT
DTSTART:20260616T183000Z
DTEND:20260616T200000Z
X-MICROSOFT-CDO-ALLDAYEVENT:FALSE
SUMMARY:Chamber Luncheon - Spotlight on Rispin Park
DESCRIPTION:Rispin Park: From Mansion to Convent to Community Treasure\n\nTuesday\, June 16 | 11:30 AM   1:00 PM\n\nBargetto Winery\n\n\n\n\n\n\n\n\nJoin us for an engaging Chamber luncheon as we explore the rich and layered history of one of Capitola's most iconic landmarks. Built in 1921\, the Rispin Mansion has lived many lives. First as a private residence\, then as a convent\, and now a city-owned park\, officially open to the public\, with future historic enhancements planned through an active fundraising campaign.\n\n\n\nWe'll take a closer look at the story behind Rispin Park\, the vision guiding its continued restoration\, and the community effort helping bring its next chapter to life. We'll hear from Capitola Museum Curator Deborah Osterberg\, who will share the history of the property\, landscape architect Mike Arnone on the design and planned enhancements\, and Gayle Ortiz on the fundraising campaign supporting this important work.\n\n\n\nThis is a great opportunity to connect past and present\, and learn how Rispin Park is continuing its transformation as a lasting community treasure for generations to come.\n\n\n\nREGISTER\n\n\n\nSpecial thanks to our sponsor\, Bargetto Winery!
X-ALT-DESC;FMTTYPE=text/html:<strong>Rispin Park: From Mansion to Convent to Community Treasure</strong><br />\n<strong data-end="159" data-start="117">Tuesday\, June 16&nbsp\;| 11:30 AM &ndash\; 1:00 PM</strong><br />\n<strong data-end="181" data-start="162">Bargetto Winery</strong>\n<div data-is-intersecting="true" data-turn-id-container="request-WEB:d4483d49-69c2-4222-ac30-1dad9aa6cce0-72">\n<section class="text-token-text-primary w-full focus:outline-none [--shadow-height:45px] has-data-writing-block:pointer-events-none has-data-writing-block:-mt-(--shadow-height) has-data-writing-block:pt-(--shadow-height) [&amp\;:has([data-writing-block])&gt\;*]:pointer-events-auto R6Vx5W_threadScrollVars scroll-mb-[calc(var(--scroll-root-safe-area-inset-bottom\,0px)+var(--thread-response-height))] scroll-mt-[calc(var(--header-height)+min(200px\,max(70px\,20svh)))]" data-scroll-anchor="false" data-testid="conversation-turn-146" data-turn="assistant" data-turn-id="request-WEB:d4483d49-69c2-4222-ac30-1dad9aa6cce0-72" dir="auto">\n<div class="text-base my-auto mx-auto pb-10 [--thread-content-margin:var(--thread-content-margin-xs\,calc(var(--spacing)*4))] @w-sm/main:[--thread-content-margin:var(--thread-content-margin-sm\,calc(var(--spacing)*6))] @w-lg/main:[--thread-content-margin:var(--thread-content-margin-lg\,calc(var(--spacing)*16))] px-(--thread-content-margin)">\n<div class="[--thread-content-max-width:40rem] @w-lg/main:[--thread-content-max-width:48rem] mx-auto max-w-(--thread-content-max-width) flex-1 group/turn-messages focus-visible:outline-hidden relative flex w-full min-w-0 flex-col agent-turn">\n<div class="flex max-w-full flex-col gap-4 grow">\n<div class="min-h-8 text-message relative flex w-full flex-col items-end gap-2 text-start break-words whitespace-normal outline-none keyboard-focused:focus-ring [.text-message+&amp\;]:mt-1" data-message-author-role="assistant" data-message-id="ec5c5ffc-95cc-4aab-815d-1ee68ab66590" data-message-model-slug="gpt-5-3-mini" data-turn-start-message="true" dir="auto" tabindex="0">\n<div class="flex w-full flex-col gap-1 empty:hidden">\n<div class="markdown prose dark:prose-invert w-full wrap-break-word light markdown-new-styling">\n<p data-end="780" data-is-last-node="" data-is-only-node="" data-start="624">Join us for an engaging Chamber luncheon as we explore the rich and layered history of one of Capitola&rsquo\;s most iconic landmarks. Built in 1921\, the Rispin Mansion has lived many lives. First as a private residence\, then as a convent\, and now a city-owned park\, officially open to the public\, with future historic enhancements planned through an active fundraising campaign.<br />\n<br />\nWe&rsquo\;ll take a closer look at the story behind Rispin Park\, the vision guiding its continued restoration\, and the community effort helping bring its next chapter to life. We&rsquo\;ll hear from Capitola Museum Curator Deborah Osterberg\, who will share the history of the property\, landscape architect Mike Arnone on the design and planned enhancements\, and Gayle Ortiz on the fundraising campaign supporting this important work.<br />\n<br />\nThis is a great opportunity to connect past and present\, and learn how Rispin Park is continuing its transformation as a lasting community treasure for generations to come.<br />\n<br />\n<a href="https://capitolachamberca.chambermaster.com/eventregistration/register/3984"><strong>REGISTER</strong></a><br />\n<br />\n<em>Special thanks to our sponsor\,&nbsp\;Bargetto Winery!</em></p>\n</div>\n</div>\n</div>\n</div>\n</div>\n</div>\n</section>\n</div>\n
LOCATION:Bargetto Winery
UID:e.2740.3984
SEQUENCE:3
DTSTAMP:20260422T043951Z
URL:http://master.capitolachamber.com/events/details/chamber-luncheon-spotlight-on-rispin-park-3984
END:VEVENT

END:VCALENDAR
